BEGIN:VCALENDAR
VERSION:2.0
PRODID:-//www.service-public.fr//Calendrier//FR
CALSCALE:GREGORIAN
METHOD:PUBLISH
BEGIN:VEVENT
DTSTAMP:20260421T120322Z
DTSTART:20260101T000100
DTEND:20260101T235959
TRANSP:OPAQUE
SUMMARY:Marchés publics : nouveaux seuils et simplification pour les marchés de travaux
UID:7f7da158-6dfa-4a56-b665-2c746b5b392b
PRIORITY:5
BEGIN:VALARM
ACTION:DISPLAY
DESCRIPTION:Marchés publics : nouveaux seuils et simplification pour les marchés de travaux
TRIGGER:-P2D
END:VALARM
END:VEVENT
END:VCALENDAR
